BEGIN:VCALENDAR
VERSION:2.0
PRODID:-//Squarespace Inc/Squarespace 6//v6//EN
BEGIN:VEVENT
UID:582a4d11f5e231ba919f5ec3@squarespace.com
DTSTAMP:20161114T235353Z
DTSTART:20161204T233000Z
DTEND:20161205T003000Z
SUMMARY:Sound healing Journey
GEO:-35.317262;150.434916
LOCATION:CWA hall Milton\, 55 Wason st\, Milton\, Australia
END:VEVENT
END:VCALENDAR
