BEGIN:VCALENDAR
VERSION:2.0
PRODID:-//Squarespace Inc/Squarespace 6//v6//EN
BEGIN:VEVENT
UID:583e2d53b8a79bc809c397a8@squarespace.com
DTSTAMP:20161207T035119Z
DTSTART:20170114T150000Z
DTEND:20170114T180000Z
SUMMARY:Introduction to Jivamukti
END:VEVENT
END:VCALENDAR
