BEGIN:VCALENDAR
VERSION:2.0
PRODID:-//Squarespace Inc/Squarespace 6//v6//EN
BEGIN:VEVENT
UID:5878b4d35016e182d05c294c@squarespace.com
DTSTAMP:20170113T112506Z
DTSTART:20170121T161500Z
DTEND:20170121T183000Z
SUMMARY:Essential Oils Workshop
END:VEVENT
END:VCALENDAR
