BEGIN:VCALENDAR
VERSION:2.0
PRODID:-//Squarespace Inc/Squarespace 6//v6//EN
BEGIN:VEVENT
UID:583e2c56d2b8571174c8a6a7@squarespace.com
DTSTAMP:20161223T030232Z
DTSTART:20170103T104500Z
DTEND:20170107T120000Z
SUMMARY:Refresh 2017 Resolution
END:VEVENT
END:VCALENDAR
