BEGIN:VCALENDAR
VERSION:2.0
PRODID:-//Squarespace Inc/Squarespace 6//v6//EN
BEGIN:VEVENT
UID:59cb330ce3df28f5efd2ec99@squarespace.com
DTSTAMP:20171211T061047Z
DTSTART:20180109T070000Z
DTEND:20180130T080000Z
SUMMARY:Prenatal Yoga
END:VEVENT
END:VCALENDAR
