BEGIN:VCALENDAR
VERSION:2.0
PRODID:-//Squarespace Inc/Squarespace 6//v6//EN
BEGIN:VEVENT
UID:59a4b0726f4ca3e279423093@squarespace.com
DTSTAMP:20171017T014928Z
DTSTART:20171028T140000Z
DTEND:20171028T160000Z
SUMMARY:Stretch & Strengthen Shoulders 
END:VEVENT
END:VCALENDAR
