BEGIN:VCALENDAR
VERSION:2.0
PRODID:-//Squarespace Inc/Squarespace 6//v6//EN
BEGIN:VEVENT
UID:59cb30e4f09ca4f1e7f63ce4@squarespace.com
DTSTAMP:20171003T023658Z
DTSTART:20171006T133000Z
DTEND:20171007T203000Z
SUMMARY:Ayurveda Intensive 
END:VEVENT
END:VCALENDAR
