BEGIN:VCALENDAR
VERSION:2.0
PRODID:-//Squarespace Inc/Squarespace 6//v6//EN
BEGIN:VEVENT
UID:59dc12f103596ed02a22f6ae@squarespace.com
DTSTAMP:20171010T002610Z
DTSTART:20171112T150000Z
DTEND:20171112T163000Z
SUMMARY:Releasing Psoas and Lower Back Tension
END:VEVENT
END:VCALENDAR
