BEGIN:VCALENDAR
VERSION:2.0
PRODID:-//Squarespace Inc/Squarespace 6//v6//EN
BEGIN:VEVENT
UID:5a0b8450c8302568a6936a07@squarespace.com
DTSTAMP:20171211T061114Z
DTSTART:20180111T000000Z
DTEND:20180201T010000Z
SUMMARY:Mums & Bubs Yoga 
END:VEVENT
END:VCALENDAR
