BEGIN:VCALENDAR
VERSION:2.0
PRODID:-//Squarespace Inc/Squarespace 6//v6//EN
BEGIN:VEVENT
UID:59f14b9e64b05f07bd422ef5@squarespace.com
DTSTAMP:20171121T050540Z
DTSTART:20171120T233000Z
DTEND:20171121T010000Z
SUMMARY:Cultivating Calm with Eva
END:VEVENT
END:VCALENDAR
