BEGIN:VCALENDAR
VERSION:2.0
PRODID:-//Squarespace Inc/Squarespace 6//v6//EN
BEGIN:VEVENT
UID:5a1b51178165f542d6b1ec37@squarespace.com
DTSTAMP:20171211T060921Z
DTSTART:20171212T070000Z
DTEND:20171212T080000Z
SUMMARY:Nourish 
END:VEVENT
END:VCALENDAR
