BEGIN:VCALENDAR
VERSION:2.0
PRODID:-//Squarespace Inc/Squarespace 6//v6//EN
BEGIN:VEVENT
UID:5a12220ae2c4833a1e31389c@squarespace.com
DTSTAMP:20171224T014842Z
DTSTART:20180122T000000Z
DTEND:20180122T013000Z
SUMMARY:Mums & Bubs Massage & Yoga 
END:VEVENT
END:VCALENDAR
