BEGIN:VCALENDAR
VERSION:2.0
PRODID:-//Squarespace Inc/Squarespace 6//v6//EN
BEGIN:VEVENT
UID:59f14c497131a59706b4e859@squarespace.com
DTSTAMP:20171121T050638Z
DTSTART:20171206T233000Z
DTEND:20171207T010000Z
SUMMARY:Centering for the Festive Season 
END:VEVENT
END:VCALENDAR
