BEGIN:VCALENDAR
VERSION:2.0
PRODID:-//Squarespace Inc/Squarespace 6//v6//EN
BEGIN:VEVENT
UID:58a28bc7b8a79bb4c695f133@squarespace.com
DTSTAMP:20170424T020139Z
DTSTART:20170430T140000Z
DTEND:20170430T160000Z
SUMMARY:Do-Ga
END:VEVENT
END:VCALENDAR
