BEGIN:VCALENDAR
VERSION:2.0
PRODID:-//Squarespace Inc/Squarespace 6//v6//EN
BEGIN:VEVENT
UID:583e2dd2d482e9bbbe0e93ca@squarespace.com
DTSTAMP:20170131T005216Z
DTSTART:20170218T140000Z
DTEND:20170218T160000Z
SUMMARY:Yang Yin with Chantal and Michelle 
END:VEVENT
END:VCALENDAR
