BEGIN:VCALENDAR
VERSION:2.0
PRODID:-//Squarespace Inc/Squarespace 6//v6//EN
BEGIN:VEVENT
UID:588fdfeed2b8574821a48dcc@squarespace.com
DTSTAMP:20170207T035132Z
DTSTART:20170304T143000Z
DTEND:20170304T173000Z
SUMMARY:Taking Your Practice Further
END:VEVENT
END:VCALENDAR
