BEGIN:VCALENDAR
VERSION:2.0
PRODID:-//Squarespace Inc/Squarespace 6//v6//EN
BEGIN:VEVENT
UID:584768535016e1965fa2562a@squarespace.com
DTSTAMP:20170207T030900Z
DTSTART:20170325T130000Z
DTEND:20170325T150000Z
SUMMARY:Prana Wheel Play
END:VEVENT
END:VCALENDAR
