BEGIN:VCALENDAR
VERSION:2.0
PRODID:-//Squarespace Inc/Squarespace 6//v6//EN
BEGIN:VEVENT
UID:58fd569b5016e127e523b5b7@squarespace.com
DTSTAMP:20170424T020243Z
DTSTART:20170603T140000Z
DTEND:20170603T170000Z
SUMMARY:An Introduction to Jivamukti Yoga with Katie Manitsas
END:VEVENT
END:VCALENDAR
