BEGIN:VCALENDAR
VERSION:2.0
PRODID:-//Squarespace Inc/Squarespace 6//v6//EN
BEGIN:VEVENT
UID:58fd50cc37c5811d5b817810@squarespace.com
DTSTAMP:20170424T014758Z
DTSTART:20170429T130000Z
DTEND:20170429T150000Z
SUMMARY:Align and Flow with Eva
END:VEVENT
END:VCALENDAR
