BEGIN:VCALENDAR
VERSION:2.0
PRODID:-//Squarespace Inc/Squarespace 6//v6//EN
BEGIN:VEVENT
UID:58fd54e85016e127e5239929@squarespace.com
DTSTAMP:20170424T013552Z
DTSTART:20170513T130000Z
DTEND:20170513T150000Z
SUMMARY:Yoga Wheel Workshop
END:VEVENT
END:VCALENDAR
