BEGIN:VCALENDAR
VERSION:2.0
PRODID:-//Squarespace Inc/Squarespace 6//v6//EN
BEGIN:VEVENT
UID:58fd599abe6594f266e4aa1c@squarespace.com
DTSTAMP:20170613T052224Z
DTSTART:20170618T020000Z
DTEND:20170618T200000Z
SUMMARY:Om Sweet Om Birthday Celebrations
END:VEVENT
END:VCALENDAR
