BEGIN:VCALENDAR
VERSION:2.0
PRODID:-//Squarespace Inc/Squarespace 6//v6//EN
BEGIN:VEVENT
UID:5940bc0259cc6848553dd600@squarespace.com
DTSTAMP:20170620T034015Z
DTSTART:20170621T220000Z
DTEND:20170622T000000Z
SUMMARY:Winter Solstice
END:VEVENT
END:VCALENDAR
