BEGIN:VCALENDAR
VERSION:2.0
PRODID:-//Squarespace Inc/Squarespace 6//v6//EN
BEGIN:VEVENT
UID:593f7827be65947cbdabc17a@squarespace.com
DTSTAMP:20170613T053339Z
DTSTART:20170708T143000Z
DTEND:20170708T190000Z
SUMMARY:Introduction to Women's Health through Ayurveda and Yoga.  
END:VEVENT
END:VCALENDAR
