BEGIN:VCALENDAR
VERSION:2.0
PRODID:-//Squarespace Inc/Squarespace 6//v6//EN
BEGIN:VEVENT
UID:596edc96e3df289cfa57faaa@squarespace.com
DTSTAMP:20170719T041651Z
DTSTART:20170819T150000Z
DTEND:20170819T170000Z
SUMMARY:Yoga for Motherhood
END:VEVENT
END:VCALENDAR
