BEGIN:VCALENDAR
VERSION:2.0
PRODID:-//Squarespace Inc/Squarespace 6//v6//EN
BEGIN:VEVENT
UID:595af2af72af65691b7844c7@squarespace.com
DTSTAMP:20170704T014829Z
DTSTART:20170803T220000Z
DTEND:20170804T000000Z
SUMMARY:Hip Opening with Eva
END:VEVENT
END:VCALENDAR
