BEGIN:VCALENDAR
VERSION:2.0
PRODID:-//Squarespace Inc/Squarespace 6//v6//EN
BEGIN:VEVENT
UID:5983f55ce58c62ee93076aec@squarespace.com
DTSTAMP:20170804T043044Z
DTSTART:20170902T120000Z
DTEND:20170902T130000Z
SUMMARY:Yoga 4 Dignity - Community Event -
END:VEVENT
END:VCALENDAR
