BEGIN:VCALENDAR
VERSION:2.0
PRODID:-//Squarespace Inc/Squarespace 6//v6//EN
BEGIN:VEVENT
UID:59cb31f429f187156156bd2c@squarespace.com
DTSTAMP:20180123T010540Z
DTSTART:20180201T081500Z
DTEND:20180309T093000Z
SUMMARY:Beginners Program 
END:VEVENT
END:VCALENDAR
