BEGIN:VCALENDAR
VERSION:2.0
PRODID:-//Squarespace Inc/Squarespace 6//v6//EN
BEGIN:VEVENT
UID:59a4b242cf81e07eb2bcb567@squarespace.com
DTSTAMP:20170829T003302Z
DTSTART:20170930T140000Z
DTEND:20170930T160000Z
SUMMARY:Chakra Balancing with Katie Manitsas 
END:VEVENT
END:VCALENDAR
