BEGIN:VCALENDAR
VERSION:2.0
PRODID:-//Squarespace Inc/Squarespace 6//v6//EN
BEGIN:VEVENT
UID:599e5641ebbd1a759718f3a8@squarespace.com
DTSTAMP:20170824T043309Z
DTSTART:20170904T213000Z
DTEND:20170925T223000Z
SUMMARY:Prenatal Course 
END:VEVENT
END:VCALENDAR
