BEGIN:VCALENDAR
VERSION:2.0
PRODID:-//Squarespace Inc/Squarespace 6//v6//EN
BEGIN:VEVENT
UID:5a0b8a429140b7543a8dba1a@squarespace.com
DTSTAMP:20171211T061158Z
DTSTART:20180114T020000Z
DTEND:20180114T050000Z
SUMMARY:Clarity 
END:VEVENT
END:VCALENDAR
