BEGIN:VCALENDAR
VERSION:2.0
PRODID:-//Squarespace Inc/Squarespace 6//v6//EN
BEGIN:VEVENT
UID:5a0b850e24a6949d3fc612b0@squarespace.com
DTSTAMP:20171211T061136Z
DTSTART:20180113T230000Z
DTEND:20180114T010000Z
SUMMARY:Jivamukti 'Power of Love'  
END:VEVENT
END:VCALENDAR
