BEGIN:VCALENDAR
VERSION:2.0
PRODID:-//Squarespace Inc/Squarespace 6//v6//EN
BEGIN:VEVENT
UID:5a25ee94e2c483ba781d76e9@squarespace.com
DTSTAMP:20180123T010423Z
DTSTART:20180125T220000Z
DTEND:20180126T000000Z
SUMMARY:Yin Yang with Katie Hyde 
END:VEVENT
END:VCALENDAR
