BEGIN:VCALENDAR
VERSION:2.0
PRODID:-//Squarespace Inc/Squarespace 6//v6//EN
BEGIN:VEVENT
UID:59f14d9ac027d810dc79c82c@squarespace.com
DTSTAMP:20171211T061020Z
DTSTART:20180102T190000Z
DTEND:20180106T203000Z
SUMMARY:Refresh 2018 
END:VEVENT
END:VCALENDAR
