BEGIN:VCALENDAR
VERSION:2.0
PRODID:-//Squarespace Inc/Squarespace 6//v6//EN
BEGIN:VEVENT
UID:5ba868867817f764cddac0a4@squarespace.com
DTSTAMP:20180924T043505Z
DTSTART:20181015T000000Z
DTEND:20181015T010000Z
SUMMARY:Baby Massage 
END:VEVENT
END:VCALENDAR
