BEGIN:VCALENDAR
VERSION:2.0
PRODID:-//Squarespace Inc/Squarespace 6//v6//EN
BEGIN:VEVENT
UID:5bbaeb7de79c70e0436fb8e8@squarespace.com
DTSTAMP:20181008T053221Z
DTSTART:20181023T223000Z
DTEND:20181127T233000Z
SUMMARY:Foundations of Yoga 
END:VEVENT
END:VCALENDAR
