BEGIN:VCALENDAR
VERSION:2.0
PRODID:-//Squarespace Inc/Squarespace 6//v6//EN
BEGIN:VEVENT
UID:5bda80731ae6cf8698efc5af@squarespace.com
DTSTAMP:20181101T042757Z
DTSTART:20181101T060000Z
DTEND:20181101T070000Z
SUMMARY:Prenatal Yoga 
END:VEVENT
END:VCALENDAR
