BEGIN:VCALENDAR
VERSION:2.0
PRODID:-//Squarespace Inc/Squarespace 6//v6//EN
BEGIN:VEVENT
UID:5bbeaebf7817f72a18d6c28b@squarespace.com
DTSTAMP:20181011T020155Z
DTSTART:20181126T000000Z
DTEND:20181126T010000Z
SUMMARY:Baby Massage 
END:VEVENT
END:VCALENDAR
