BEGIN:VCALENDAR
VERSION:2.0
PRODID:-//Squarespace Inc/Squarespace 6//v6//EN
BEGIN:VEVENT
UID:5bbae022085229e8f5179c41@squarespace.com
DTSTAMP:20181008T052306Z
DTSTART:20181109T063000Z
DTEND:20181109T083000Z
SUMMARY:Heart Awakening 
END:VEVENT
END:VCALENDAR
