BEGIN:VCALENDAR
VERSION:2.0
PRODID:-//Squarespace Inc/Squarespace 6//v6//EN
BEGIN:VEVENT
UID:5c0f087740ec9ab15f953e6a@squarespace.com
DTSTAMP:20181211T010328Z
DTSTART:20181221T230000Z
DTEND:20181222T003000Z
SUMMARY:Christmas Fundraiser 
END:VEVENT
END:VCALENDAR
