BEGIN:VCALENDAR
VERSION:2.0
PRODID:-//Squarespace Inc/Squarespace 6//v6//EN
BEGIN:VEVENT
UID:5bbeaf1ce79c70f8072e518f@squarespace.com
DTSTAMP:20190118T041020Z
DTSTART:20190106T210000Z
DTEND:20190123T220000Z
SUMMARY:Yoga at Bendalong 
END:VEVENT
END:VCALENDAR
