BEGIN:VCALENDAR
VERSION:2.0
PRODID:-//Squarespace Inc/Squarespace 6//v6//EN
BEGIN:VEVENT
UID:5bbed0acb208fc930e1b159b@squarespace.com
DTSTAMP:20181011T042949Z
DTSTART:20181230T230000Z
DTEND:20181231T010000Z
SUMMARY:New Years Eve Intention Setting 
END:VEVENT
END:VCALENDAR
