BEGIN:VCALENDAR
VERSION:2.0
PRODID:-//Squarespace Inc/Squarespace 6//v6//EN
BEGIN:VEVENT
UID:5bbeb0084785d335cfe3c379@squarespace.com
DTSTAMP:20181011T035841Z
DTSTART:20181209T070000Z
DTEND:20181209T090000Z
SUMMARY:Be here Now - A journey Yinwards 
END:VEVENT
END:VCALENDAR
