BEGIN:VCALENDAR
VERSION:2.0
PRODID:-//Squarespace Inc/Squarespace 6//v6//EN
BEGIN:VEVENT
UID:5a7684a6419202f8d949a67d@squarespace.com
DTSTAMP:20180204T035915Z
DTSTART:20180201T000000Z
DTEND:20180222T010000Z
SUMMARY:Mums & Bubs Yoga
END:VEVENT
END:VCALENDAR
