BEGIN:VCALENDAR
VERSION:2.0
PRODID:-//Squarespace Inc/Squarespace 6//v6//EN
BEGIN:VEVENT
UID:5a77fa0924a69434ae8bd98b@squarespace.com
DTSTAMP:20180205T063635Z
DTSTART:20180213T070000Z
DTEND:20180213T080000Z
SUMMARY:Birth Blessing 
END:VEVENT
END:VCALENDAR
