BEGIN:VCALENDAR
VERSION:2.0
PRODID:-//Squarespace Inc/Squarespace 6//v6//EN
BEGIN:VEVENT
UID:5a878b2453450a6552c50c36@squarespace.com
DTSTAMP:20180217T015908Z
DTSTART:20180227T230000Z
DTEND:20180228T013000Z
SUMMARY:Sacred Union Yoga 
END:VEVENT
END:VCALENDAR
