BEGIN:VCALENDAR
VERSION:2.0
PRODID:-//Squarespace Inc/Squarespace 6//v6//EN
BEGIN:VEVENT
UID:5a668ebe53450a2008929934@squarespace.com
DTSTAMP:20180124T025854Z
DTSTART:20180202T230000Z
DTEND:20180203T001500Z
SUMMARY:Birth
END:VEVENT
END:VCALENDAR
