BEGIN:VCALENDAR
VERSION:2.0
PRODID:-//Squarespace Inc/Squarespace 6//v6//EN
BEGIN:VEVENT
UID:5a76896d9140b78298012bb0@squarespace.com
DTSTAMP:20180302T030745Z
DTSTART:20180303T230000Z
DTEND:20180304T003000Z
SUMMARY:Making Mala Beads 
END:VEVENT
END:VCALENDAR
