BEGIN:VCALENDAR
VERSION:2.0
PRODID:-//Squarespace Inc/Squarespace 6//v6//EN
BEGIN:VEVENT
UID:5a7684320d929789fff7ac88@squarespace.com
DTSTAMP:20180204T035701Z
DTSTART:20180206T070000Z
DTEND:20180227T080000Z
SUMMARY:Prenatal Yoga 
END:VEVENT
END:VCALENDAR
