BEGIN:VCALENDAR
VERSION:2.0
PRODID:-//Squarespace Inc/Squarespace 6//v6//EN
BEGIN:VEVENT
UID:5a7685239140b782980076bf@squarespace.com
DTSTAMP:20180317T062733Z
DTSTART:20180318T000000Z
DTEND:20180318T020000Z
SUMMARY:Meditation with Mala  
END:VEVENT
END:VCALENDAR
