BEGIN:VCALENDAR
VERSION:2.0
PRODID:-//Squarespace Inc/Squarespace 6//v6//EN
BEGIN:VEVENT
UID:5a768dae71c10bcbfb69dc84@squarespace.com
DTSTAMP:20180317T062648Z
DTSTART:20180317T213000Z
DTEND:20180317T233000Z
SUMMARY: ‘The Power of Prana’
END:VEVENT
END:VCALENDAR
